BEGIN:VCALENDAR
VERSION:2.0
PRODID:-//Provenance - ECPv6.15.20//NONSGML v1.0//EN
CALSCALE:GREGORIAN
METHOD:PUBLISH
X-WR-CALNAME:Provenance
X-ORIGINAL-URL:https://yourprovenance.com
X-WR-CALDESC:Events for Provenance
REFRESH-INTERVAL;VALUE=DURATION:PT1H
X-Robots-Tag:noindex
X-PUBLISHED-TTL:PT1H
BEGIN:VTIMEZONE
TZID:America/Chicago
BEGIN:DAYLIGHT
TZOFFSETFROM:-0600
TZOFFSETTO:-0500
TZNAME:CDT
DTSTART:20250309T080000
END:DAYLIGHT
BEGIN:STANDARD
TZOFFSETFROM:-0500
TZOFFSETTO:-0600
TZNAME:CST
DTSTART:20251102T070000
END:STANDARD
BEGIN:DAYLIGHT
TZOFFSETFROM:-0600
TZOFFSETTO:-0500
TZNAME:CDT
DTSTART:20260308T080000
END:DAYLIGHT
BEGIN:STANDARD
TZOFFSETFROM:-0500
TZOFFSETTO:-0600
TZNAME:CST
DTSTART:20261101T070000
END:STANDARD
BEGIN:DAYLIGHT
TZOFFSETFROM:-0600
TZOFFSETTO:-0500
TZNAME:CDT
DTSTART:20270314T080000
END:DAYLIGHT
BEGIN:STANDARD
TZOFFSETFROM:-0500
TZOFFSETTO:-0600
TZNAME:CST
DTSTART:20271107T070000
END:STANDARD
END:VTIMEZONE
BEGIN:VEVENT
DTSTART;TZID=America/Chicago:20260425T090000
DTEND;TZID=America/Chicago:20260425T100000
DTSTAMP:20260425T133732
CREATED:20260123T160347Z
LAST-MODIFIED:20260123T160347Z
UID:24461-1777107600-1777111200@yourprovenance.com
SUMMARY:Saturday Morning Yoga in the Park
DESCRIPTION:Yoga in the Park with Bloom Yoga\n9 a.m. in Greenleaf Park\, Saturdays\, April 11-May 16 \nFun Flow\, appropriate for all levels led by Bloom Yoga. Bring a yoga mat or a towel (and water).  Cost: $20 a person\, or $30 per couple. Pay with cash day of\, or Venmo @bloomyoga318. \n(Weather permitting. In the event of inclement weather\, yoga will be canceled.)
URL:https://yourprovenance.com/event/saturday-morning-yoga-in-the-park-28/
LOCATION:Greenleaf Park\, 1955 Woodberry Avenue\, Shreveport\, LA\, 71106\, United States
CATEGORIES:Public Event
ATTACH;FMTTYPE=image/jpeg:https://yourprovenance.com/assets/uploads/2025/02/new-yoga.jpg
END:VEVENT
BEGIN:VEVENT
DTSTART;TZID=America/Chicago:20260425T090000
DTEND;TZID=America/Chicago:20260425T120000
DTSTAMP:20260425T133732
CREATED:20260122T230346Z
LAST-MODIFIED:20260420T163253Z
UID:24452-1777107600-1777118400@yourprovenance.com
SUMMARY:Markets at Provenance Town Center
DESCRIPTION:Join us in Provenance’s Town Center for Spring Markets!\nSaturdays\, March 28\, April 25 & May 23 from 9 a.m.-noon.\nMarkets return to Town Center this spring! Support small businesses and shop with local vendors at Provenance! Markets will be held one Saturday a month\, March-May\, at Town Center (located behind Great American Cookie Co.). Open to the public.\nVendor applications for April 25 are closed \nApril 25 vendors:\nNana’s and Papa’s\nKelly Schmidt Designs\nBoone Street Bakery\nLoafers Fresh Milled Bakes\nHead Over Heels Mini Cake Bar\nMagnolia Root & Render\nGod’s Wood Greg’s Hands\nMamie’s Brittle\nAmy’s Well Loved Creations\nCharmed by Brandy\nvioletsRblue Candle Co. LLC\nArt by Sarah-Katherine Semon\nSugar Britches Bakery\nCrochet Queen\nGraceful Gifts\nHappy Crumbs Treat Co\nCarpe Diem Designs\nDough&Co.\nLittle & lovely Co\nBe Golden Jewelry\nGod’s Wood Greg’s Hands\nMyers Books & Bookish Goods\nWooded Glen Pottery\nSlowPokes Bakery\nSilver & Sun\nMoonlight Harvest\nSavvySweets&Co\nHouse of AnnaLisa\nGracie’s Garden\nAstoli Designs\nTiger Den \n  \n  \n 
URL:https://yourprovenance.com/event/markets-at-provenance-town-center-2/
LOCATION:Provenance Town Center\, 1024 Provenance Place Blvd.\, Shreveport\, 71106\, United States
CATEGORIES:Public Event
ATTACH;FMTTYPE=image/jpeg:https://yourprovenance.com/assets/uploads/2026/01/Copy-of-Copy-of-Copy-of-MARKETS-AT-TOWN-CENTER.jpg
END:VEVENT
BEGIN:VEVENT
DTSTART;TZID=America/Chicago:20260430T170000
DTEND;TZID=America/Chicago:20260430T203000
DTSTAMP:20260425T133732
CREATED:20260123T170743Z
LAST-MODIFIED:20260413T170842Z
UID:24479-1777568400-1777581000@yourprovenance.com
SUMMARY:Concerts at Provenance Town Center: Area 84 Arena Rock Tribute
DESCRIPTION:Free live music concert series in Shreveport’s Provenance Community!\nThursdays\, April 16-May 21\, 5-8:30 pm\nThe Town Center Spring 2026 Concert Series features live music from popular regional bands at the new outdoor stage in Provenance (located behind Great American Cookie Co.)! Bring your blankets and chairs and enjoy a fun evening with your friends and neighbors! \nAll shows are 5-8:30 pm: Come early to get your spot and enjoy local DJs spinning a mix of music from 5-6:30 pm. Headlining band will begin at 6:30 and play until 8:30 pm. \nCome enjoy the Provenance lifestyle! Concerts are FREE and open to the public\, all ages are welcome. Cash bar available. \nAPRIL 30: AREA 84: ARENA ROCK TRIBUTE\nCome rock out with the ultimate arena rock tribute band! High octane plus high energy & all your favorite arena anthems in one night! \nSponsored by Ochsner-LSU Health Shreveport\, Edward Jones/Mindy Rodriguez\, McCary’s Jewelers\, Graf Orthodontics\, Hargrove Roofing\, Lagniappe Lawnscapes & The Provenance Institute \n 
URL:https://yourprovenance.com/event/concerts-at-provenance-town-center-21/
LOCATION:Town Center Stage\, 1024 Provenance Place Blvd.\, Shreveport\, LA\, 71106\, United States
CATEGORIES:Public Event
ATTACH;FMTTYPE=image/jpeg:https://yourprovenance.com/assets/uploads/2026/01/concerts-area-84-1.jpg
END:VEVENT
END:VCALENDAR