BEGIN:VCALENDAR
VERSION:2.0
PRODID:-//Provenance - ECPv6.15.20//NONSGML v1.0//EN
CALSCALE:GREGORIAN
METHOD:PUBLISH
X-ORIGINAL-URL:https://yourprovenance.com
X-WR-CALDESC:Events for Provenance
REFRESH-INTERVAL;VALUE=DURATION:PT1H
X-Robots-Tag:noindex
X-PUBLISHED-TTL:PT1H
BEGIN:VTIMEZONE
TZID:America/Chicago
BEGIN:DAYLIGHT
TZOFFSETFROM:-0600
TZOFFSETTO:-0500
TZNAME:CDT
DTSTART:20250309T080000
END:DAYLIGHT
BEGIN:STANDARD
TZOFFSETFROM:-0500
TZOFFSETTO:-0600
TZNAME:CST
DTSTART:20251102T070000
END:STANDARD
BEGIN:DAYLIGHT
TZOFFSETFROM:-0600
TZOFFSETTO:-0500
TZNAME:CDT
DTSTART:20260308T080000
END:DAYLIGHT
BEGIN:STANDARD
TZOFFSETFROM:-0500
TZOFFSETTO:-0600
TZNAME:CST
DTSTART:20261101T070000
END:STANDARD
BEGIN:DAYLIGHT
TZOFFSETFROM:-0600
TZOFFSETTO:-0500
TZNAME:CDT
DTSTART:20270314T080000
END:DAYLIGHT
BEGIN:STANDARD
TZOFFSETFROM:-0500
TZOFFSETTO:-0600
TZNAME:CST
DTSTART:20271107T070000
END:STANDARD
END:VTIMEZONE
BEGIN:VEVENT
DTSTART;TZID=America/Chicago:20260425T090000
DTEND;TZID=America/Chicago:20260425T120000
DTSTAMP:20260425T115322
CREATED:20260122T230346Z
LAST-MODIFIED:20260420T163253Z
UID:24452-1777107600-1777118400@yourprovenance.com
SUMMARY:Markets at Provenance Town Center
DESCRIPTION:Join us in Provenance’s Town Center for Spring Markets!\nSaturdays\, March 28\, April 25 & May 23 from 9 a.m.-noon.\nMarkets return to Town Center this spring! Support small businesses and shop with local vendors at Provenance! Markets will be held one Saturday a month\, March-May\, at Town Center (located behind Great American Cookie Co.). Open to the public.\nVendor applications for April 25 are closed \nApril 25 vendors:\nNana’s and Papa’s\nKelly Schmidt Designs\nBoone Street Bakery\nLoafers Fresh Milled Bakes\nHead Over Heels Mini Cake Bar\nMagnolia Root & Render\nGod’s Wood Greg’s Hands\nMamie’s Brittle\nAmy’s Well Loved Creations\nCharmed by Brandy\nvioletsRblue Candle Co. LLC\nArt by Sarah-Katherine Semon\nSugar Britches Bakery\nCrochet Queen\nGraceful Gifts\nHappy Crumbs Treat Co\nCarpe Diem Designs\nDough&Co.\nLittle & lovely Co\nBe Golden Jewelry\nGod’s Wood Greg’s Hands\nMyers Books & Bookish Goods\nWooded Glen Pottery\nSlowPokes Bakery\nSilver & Sun\nMoonlight Harvest\nSavvySweets&Co\nHouse of AnnaLisa\nGracie’s Garden\nAstoli Designs\nTiger Den \n  \n  \n 
URL:https://yourprovenance.com/event/markets-at-provenance-town-center-2/
LOCATION:Provenance Town Center\, 1024 Provenance Place Blvd.\, Shreveport\, 71106\, United States
CATEGORIES:Public Event
ATTACH;FMTTYPE=image/jpeg:https://yourprovenance.com/assets/uploads/2026/01/Copy-of-Copy-of-Copy-of-MARKETS-AT-TOWN-CENTER.jpg
END:VEVENT
BEGIN:VEVENT
DTSTART;TZID=America/Chicago:20260430T170000
DTEND;TZID=America/Chicago:20260430T203000
DTSTAMP:20260425T115322
CREATED:20260123T170743Z
LAST-MODIFIED:20260413T170842Z
UID:24479-1777568400-1777581000@yourprovenance.com
SUMMARY:Concerts at Provenance Town Center: Area 84 Arena Rock Tribute
DESCRIPTION:Free live music concert series in Shreveport’s Provenance Community!\nThursdays\, April 16-May 21\, 5-8:30 pm\nThe Town Center Spring 2026 Concert Series features live music from popular regional bands at the new outdoor stage in Provenance (located behind Great American Cookie Co.)! Bring your blankets and chairs and enjoy a fun evening with your friends and neighbors! \nAll shows are 5-8:30 pm: Come early to get your spot and enjoy local DJs spinning a mix of music from 5-6:30 pm. Headlining band will begin at 6:30 and play until 8:30 pm. \nCome enjoy the Provenance lifestyle! Concerts are FREE and open to the public\, all ages are welcome. Cash bar available. \nAPRIL 30: AREA 84: ARENA ROCK TRIBUTE\nCome rock out with the ultimate arena rock tribute band! High octane plus high energy & all your favorite arena anthems in one night! \nSponsored by Ochsner-LSU Health Shreveport\, Edward Jones/Mindy Rodriguez\, McCary’s Jewelers\, Graf Orthodontics\, Hargrove Roofing\, Lagniappe Lawnscapes & The Provenance Institute \n 
URL:https://yourprovenance.com/event/concerts-at-provenance-town-center-21/
LOCATION:Town Center Stage\, 1024 Provenance Place Blvd.\, Shreveport\, LA\, 71106\, United States
CATEGORIES:Public Event
ATTACH;FMTTYPE=image/jpeg:https://yourprovenance.com/assets/uploads/2026/01/concerts-area-84-1.jpg
END:VEVENT
BEGIN:VEVENT
DTSTART;TZID=America/Chicago:20260502T090000
DTEND;TZID=America/Chicago:20260502T100000
DTSTAMP:20260425T115322
CREATED:20260123T160825Z
LAST-MODIFIED:20260123T160825Z
UID:24465-1777712400-1777716000@yourprovenance.com
SUMMARY:Saturday Morning Yoga in the Park
DESCRIPTION:Yoga in the Park with Bloom Yoga\n9 a.m. in Greenleaf Park\, Saturdays\, April 11-May 16 \nFun Flow\, appropriate for all levels led by Bloom Yoga. Bring a yoga mat or a towel (and water).  Cost: $20 a person\, or $30 per couple. Pay with cash day of\, or Venmo @bloomyoga318. \n(Weather permitting. In the event of inclement weather\, yoga will be canceled.)
URL:https://yourprovenance.com/event/saturday-morning-yoga-in-the-park-29/
LOCATION:Greenleaf Park\, 1955 Woodberry Avenue\, Shreveport\, LA\, 71106\, United States
CATEGORIES:Public Event
ATTACH;FMTTYPE=image/jpeg:https://yourprovenance.com/assets/uploads/2025/02/new-yoga.jpg
END:VEVENT
BEGIN:VEVENT
DTSTART;TZID=America/Chicago:20260503T150000
DTEND;TZID=America/Chicago:20260503T190000
DTSTAMP:20260425T115322
CREATED:20260407T202857Z
LAST-MODIFIED:20260407T202857Z
UID:24734-1777820400-1777834800@yourprovenance.com
SUMMARY:Cinco de Mayo 2026 with El Cabo Verde
DESCRIPTION:The annual family friendly celebration of Cinco de Mayo in Provenance with partner El Cabo Verde!\nJoin us Sunday\, May 3 from 3-7 pm in Windrush Park for food\, drinks\, and fun! Enjoy delicious authentic Mexican food\, festive drinks\, and an afternoon of fun for all ages. Dance to the lively sounds of a Mariachi band and other live music while the kids enjoy activities designed just for them! Bring your family and friends for a day of great food\, great music\, and even better company. Let’s make this Cinco de Mayo the best one yet! \nFree Admission and Open to the Public!
URL:https://yourprovenance.com/event/cinco-de-mayo-2026-with-el-cabo-verde/
LOCATION:Windrush Park\, Corner of Bridgewater Ave and Torrey Pine Ln\, Shreveport\, LA\, 71106\, United States
CATEGORIES:Public Event
ATTACH;FMTTYPE=image/png:https://yourprovenance.com/assets/uploads/2026/04/cinco-2026-websize.png
ORGANIZER;CN="El Cabo Verde":MAILTO:elcaboverde@protonmail.com
END:VEVENT
BEGIN:VEVENT
DTSTART;TZID=America/Chicago:20260507T170000
DTEND;TZID=America/Chicago:20260507T203000
DTSTAMP:20260425T115322
CREATED:20260123T171755Z
LAST-MODIFIED:20260413T170730Z
UID:24481-1778173200-1778185800@yourprovenance.com
SUMMARY:Concerts at Provenance Town Center: Lover - An Eras Tour Experience
DESCRIPTION:Free live music concert series in Shreveport’s Provenance Community!\nThursdays\, April 16-May 21\, 5-8:30 pm\nThe Town Center Spring 2026 Concert Series features live music from popular regional bands at the new outdoor stage in Provenance (located behind Great American Cookie Co.)! Bring your blankets and chairs and enjoy a fun evening with your friends and neighbors! \nAll shows are 5-8:30 pm: Come early to get your spot and enjoy local DJs spinning a mix of music from 5-6:30 pm. Headlining band will begin at 6:30 and play until 8:30 pm. \nCome enjoy the Provenance lifestyle! Concerts are FREE and open to the public\, all ages are welcome. Cash bar available. \nMay 7: Lover – An Eras Tour Experience\nLOVER is a high-energy Taylor Swift tribute experience and the most faithful recreation of the magic and spectacle of The Eras Tour\, the highest-grossing tour of all time. From “Love Story” to “The Life of a Showgirl\,” the show journeys through every era of Taylor Swift’s music\, bringing the songs you grew up on and the ones you’re screaming now to life on stage. \nFronted by singer and multi-instrumentalist Charity Eden\, LOVER recreates the magic\, sparkle\, and emotional storytelling that made Taylor Swift a global phenomenon. With dazzling costumes\, era-spanning setlists\, and an electric live band\, the show captures the energy and spirit of Taylor Swift’s music while celebrating the songs that defined a generation. \nFor fans who couldn’t get Eras Tour tickets\, those who attended and want to relive the magic\, and anyone who loves great live music\, Lover delivers a tribute experience designed to exceed expectations. Get your tour outfits ready… and let’s make the whole place shimmer. \nSponsored by Ochsner-LSU Health Shreveport\, Edward Jones/Mindy Rodriguez\, McCary’s Jewelers\, Graf Orthodontics\, Hargrove Roofing\, Lagniappe Lawnscapes & The Provenance Institute
URL:https://yourprovenance.com/event/concerts-at-provenance-town-center-22/
LOCATION:Town Center Stage\, 1024 Provenance Place Blvd.\, Shreveport\, LA\, 71106\, United States
CATEGORIES:Public Event
ATTACH;FMTTYPE=image/jpeg:https://yourprovenance.com/assets/uploads/2026/01/Copy-of-Copy-of-concerts-lover-for-website.jpg
END:VEVENT
BEGIN:VEVENT
DTSTART;TZID=America/Chicago:20260509T090000
DTEND;TZID=America/Chicago:20260509T100000
DTSTAMP:20260425T115322
CREATED:20260123T161112Z
LAST-MODIFIED:20260123T161112Z
UID:24467-1778317200-1778320800@yourprovenance.com
SUMMARY:Saturday Morning Yoga in the Park
DESCRIPTION:Yoga in the Park with Bloom Yoga\n9 a.m. in Greenleaf Park\, Saturdays\, April 11-May 16 \nFun Flow\, appropriate for all levels led by Bloom Yoga. Bring a yoga mat or a towel (and water).  Cost: $20 a person\, or $30 per couple. Pay with cash day of\, or Venmo @bloomyoga318. \n(Weather permitting. In the event of inclement weather\, yoga will be canceled.)
URL:https://yourprovenance.com/event/saturday-morning-yoga-in-the-park-30/
LOCATION:Greenleaf Park\, 1955 Woodberry Avenue\, Shreveport\, LA\, 71106\, United States
CATEGORIES:Public Event
ATTACH;FMTTYPE=image/jpeg:https://yourprovenance.com/assets/uploads/2025/02/new-yoga.jpg
END:VEVENT
BEGIN:VEVENT
DTSTART;TZID=America/Chicago:20260514T170000
DTEND;TZID=America/Chicago:20260514T203000
DTSTAMP:20260425T115322
CREATED:20260123T172350Z
LAST-MODIFIED:20260410T174059Z
UID:24483-1778778000-1778790600@yourprovenance.com
SUMMARY:Concerts at Provenance Town Center: Ray Boudreaux
DESCRIPTION:Free live music concert series in Shreveport’s Provenance Community!\nThursdays\, April 16-May 21\, 5-8:30 pm\nThe Town Center Spring 2026 Concert Series features live music from popular regional bands at the new outdoor stage in Provenance (located behind Great American Cookie Co.)! Bring your blankets and chairs and enjoy a fun evening with your friends and neighbors! \nAll shows are 5-8:30 pm: Come early to get your spot and enjoy local DJs spinning a mix of music from 5-6:30 pm. Headlining band will begin at 6:30 and play until 8:30 pm. \nCome enjoy the Provenance lifestyle! Concerts are FREE and open to the public\, all ages are welcome. Cash bar available. \nMay 14: Ray Boudreaux\nCome enjoy a great night of music from The Voice finalist Ray Boudreaux! This powerhouse Louisiana vocalist embodies the spirit of soul\, swamp pop\, and roots music.\nAfter being one of the top finalists on The Voice\, Boudreaux has played festivals and venues around the world. He’s known for his soulful vocals and authentic sound that bridges traditional and contemporary styles.\nBoudreaux earned critical acclaim for his debut EP “First Train”\, which reached #2 on iTunes Singer-Songwriter charts. \nSponsored by: Ochsner-LSU Health Shreveport\, Edward Jones/Mindy Rodriguez\, McCary’s Jewelers\, Graf Orthodontics\, Hargrove Roofing\, Lagniappe Lawnscapes & The Provenance Institute. \n 
URL:https://yourprovenance.com/event/concerts-at-provenance-town-center-23/
LOCATION:Town Center Stage\, 1024 Provenance Place Blvd.\, Shreveport\, LA\, 71106\, United States
CATEGORIES:Public Event
ATTACH;FMTTYPE=image/jpeg:https://yourprovenance.com/assets/uploads/2026/01/concerts-ray-boudreaux-3.jpg
END:VEVENT
BEGIN:VEVENT
DTSTART;TZID=America/Chicago:20260516T090000
DTEND;TZID=America/Chicago:20260516T100000
DTSTAMP:20260425T115322
CREATED:20260123T161442Z
LAST-MODIFIED:20260123T161442Z
UID:24469-1778922000-1778925600@yourprovenance.com
SUMMARY:Saturday Morning Yoga in the Park
DESCRIPTION:Yoga in the Park with Bloom Yoga\n9 a.m. in Greenleaf Park\, Saturdays\, April 11-May 16 \nFun Flow\, appropriate for all levels led by Bloom Yoga. Bring a yoga mat or a towel (and water).  Cost: $20 a person\, or $30 per couple. Pay with cash day of\, or Venmo @bloomyoga318. \n(Weather permitting. In the event of inclement weather\, yoga will be canceled.)
URL:https://yourprovenance.com/event/saturday-morning-yoga-in-the-park-31/
LOCATION:Greenleaf Park\, 1955 Woodberry Avenue\, Shreveport\, LA\, 71106\, United States
CATEGORIES:Public Event
ATTACH;FMTTYPE=image/jpeg:https://yourprovenance.com/assets/uploads/2025/02/new-yoga.jpg
END:VEVENT
BEGIN:VEVENT
DTSTART;TZID=America/Chicago:20260521T170000
DTEND;TZID=America/Chicago:20260521T203000
DTSTAMP:20260425T115322
CREATED:20260123T172821Z
LAST-MODIFIED:20260415T202506Z
UID:24485-1779382800-1779395400@yourprovenance.com
SUMMARY:Concerts at Provenance Town Center: Johnny Earthquake & The Moondogs
DESCRIPTION:Free live music concert series in Shreveport’s Provenance Community!\nThursdays\, April 16-May 21\, 5-8:30 pm\nThe Town Center Spring 2026 Concert Series features live music from popular regional bands at the new outdoor stage in Provenance (located behind Rhino Coffee)! Bring your blankets and chairs and enjoy a fun evening with your friends and neighbors! \nAll shows are 5-8:30 pm: Come early to get your spot and enjoy local DJs spinning a mix of music from 5-6:30 pm. Headlining band will begin at 6:30 and play until 8:30 pm. \nCome enjoy the Provenance lifestyle! Concerts are FREE and open to the public\, all ages are welcome. Cash bar available. \nMay 21: Johnny Earthquake and The Moondogs\nThey played our very first Concert in Town Center—and now they are returning to close out the spring series! Get ready to dance the night away with one of Louisiana’s top bands – from rock and rhythm & blues to funk\, country\, swing\, and more—they’ve got something for everyone. \nSponsored by Ochsner-LSU Health Shreveport\, Edward Jones/Mindy Rodriguez\, McCary’s Jewelers\, Graf Orthodontics\, Hargrove Roofing\, Lagniappe Lawnscapes & The Provenance Institute. \n  \n  \n 
URL:https://yourprovenance.com/event/concerts-at-provenance-town-center-24/
LOCATION:Town Center Stage\, 1024 Provenance Place Blvd.\, Shreveport\, LA\, 71106\, United States
CATEGORIES:Public Event
ATTACH;FMTTYPE=image/jpeg:https://yourprovenance.com/assets/uploads/2026/04/concerts-moondogs.jpg
END:VEVENT
BEGIN:VEVENT
DTSTART;TZID=America/Chicago:20260523T090000
DTEND;TZID=America/Chicago:20260523T120000
DTSTAMP:20260425T115322
CREATED:20260122T230440Z
LAST-MODIFIED:20260410T174430Z
UID:24455-1779526800-1779537600@yourprovenance.com
SUMMARY:Markets at Provenance Town Center
DESCRIPTION:Join us in Provenance’s Town Center for Spring Markets!\nSaturdays\, March 28\, April 25 & May 23 from 9 a.m.-noon.\nMarkets return to Town Center this spring! Support small businesses and shop with local vendors at Provenance! Markets will be held one Saturday a month\, March-May\, at Town Center (located behind Great American Cookie Co.). Open to the public.\nVENDOR APPLICATION\n  \n  \n 
URL:https://yourprovenance.com/event/markets-at-provenance-town-center-3/
LOCATION:Provenance Town Center\, 1024 Provenance Place Blvd.\, Shreveport\, 71106\, United States
CATEGORIES:Public Event
ATTACH;FMTTYPE=image/jpeg:https://yourprovenance.com/assets/uploads/2026/01/Copy-of-Copy-of-Copy-of-MARKETS-AT-TOWN-CENTER.jpg
END:VEVENT
END:VCALENDAR