BEGIN:VCALENDAR
VERSION:2.0
PRODID:-//Provenance - ECPv6.15.20//NONSGML v1.0//EN
CALSCALE:GREGORIAN
METHOD:PUBLISH
X-ORIGINAL-URL:https://yourprovenance.com
X-WR-CALDESC:Events for Provenance
REFRESH-INTERVAL;VALUE=DURATION:PT1H
X-Robots-Tag:noindex
X-PUBLISHED-TTL:PT1H
BEGIN:VTIMEZONE
TZID:America/Chicago
BEGIN:DAYLIGHT
TZOFFSETFROM:-0600
TZOFFSETTO:-0500
TZNAME:CDT
DTSTART:20250309T080000
END:DAYLIGHT
BEGIN:STANDARD
TZOFFSETFROM:-0500
TZOFFSETTO:-0600
TZNAME:CST
DTSTART:20251102T070000
END:STANDARD
BEGIN:DAYLIGHT
TZOFFSETFROM:-0600
TZOFFSETTO:-0500
TZNAME:CDT
DTSTART:20260308T080000
END:DAYLIGHT
BEGIN:STANDARD
TZOFFSETFROM:-0500
TZOFFSETTO:-0600
TZNAME:CST
DTSTART:20261101T070000
END:STANDARD
BEGIN:DAYLIGHT
TZOFFSETFROM:-0600
TZOFFSETTO:-0500
TZNAME:CDT
DTSTART:20270314T080000
END:DAYLIGHT
BEGIN:STANDARD
TZOFFSETFROM:-0500
TZOFFSETTO:-0600
TZNAME:CST
DTSTART:20271107T070000
END:STANDARD
END:VTIMEZONE
BEGIN:VEVENT
DTSTART;TZID=America/Chicago:20260514T170000
DTEND;TZID=America/Chicago:20260514T203000
DTSTAMP:20260425T160522
CREATED:20260123T172350Z
LAST-MODIFIED:20260410T174059Z
UID:24483-1778778000-1778790600@yourprovenance.com
SUMMARY:Concerts at Provenance Town Center: Ray Boudreaux
DESCRIPTION:Free live music concert series in Shreveport’s Provenance Community!\nThursdays\, April 16-May 21\, 5-8:30 pm\nThe Town Center Spring 2026 Concert Series features live music from popular regional bands at the new outdoor stage in Provenance (located behind Great American Cookie Co.)! Bring your blankets and chairs and enjoy a fun evening with your friends and neighbors! \nAll shows are 5-8:30 pm: Come early to get your spot and enjoy local DJs spinning a mix of music from 5-6:30 pm. Headlining band will begin at 6:30 and play until 8:30 pm. \nCome enjoy the Provenance lifestyle! Concerts are FREE and open to the public\, all ages are welcome. Cash bar available. \nMay 14: Ray Boudreaux\nCome enjoy a great night of music from The Voice finalist Ray Boudreaux! This powerhouse Louisiana vocalist embodies the spirit of soul\, swamp pop\, and roots music.\nAfter being one of the top finalists on The Voice\, Boudreaux has played festivals and venues around the world. He’s known for his soulful vocals and authentic sound that bridges traditional and contemporary styles.\nBoudreaux earned critical acclaim for his debut EP “First Train”\, which reached #2 on iTunes Singer-Songwriter charts. \nSponsored by: Ochsner-LSU Health Shreveport\, Edward Jones/Mindy Rodriguez\, McCary’s Jewelers\, Graf Orthodontics\, Hargrove Roofing\, Lagniappe Lawnscapes & The Provenance Institute. \n 
URL:https://yourprovenance.com/event/concerts-at-provenance-town-center-23/
LOCATION:Town Center Stage\, 1024 Provenance Place Blvd.\, Shreveport\, LA\, 71106\, United States
CATEGORIES:Public Event
ATTACH;FMTTYPE=image/jpeg:https://yourprovenance.com/assets/uploads/2026/01/concerts-ray-boudreaux-3.jpg
END:VEVENT
END:VCALENDAR