BEGIN:VCALENDAR
VERSION:2.0
PRODID:-//Provenance - ECPv6.15.20//NONSGML v1.0//EN
CALSCALE:GREGORIAN
METHOD:PUBLISH
X-ORIGINAL-URL:https://yourprovenance.com
X-WR-CALDESC:Events for Provenance
REFRESH-INTERVAL;VALUE=DURATION:PT1H
X-Robots-Tag:noindex
X-PUBLISHED-TTL:PT1H
BEGIN:VTIMEZONE
TZID:America/Chicago
BEGIN:DAYLIGHT
TZOFFSETFROM:-0600
TZOFFSETTO:-0500
TZNAME:CDT
DTSTART:20250309T080000
END:DAYLIGHT
BEGIN:STANDARD
TZOFFSETFROM:-0500
TZOFFSETTO:-0600
TZNAME:CST
DTSTART:20251102T070000
END:STANDARD
BEGIN:DAYLIGHT
TZOFFSETFROM:-0600
TZOFFSETTO:-0500
TZNAME:CDT
DTSTART:20260308T080000
END:DAYLIGHT
BEGIN:STANDARD
TZOFFSETFROM:-0500
TZOFFSETTO:-0600
TZNAME:CST
DTSTART:20261101T070000
END:STANDARD
BEGIN:DAYLIGHT
TZOFFSETFROM:-0600
TZOFFSETTO:-0500
TZNAME:CDT
DTSTART:20270314T080000
END:DAYLIGHT
BEGIN:STANDARD
TZOFFSETFROM:-0500
TZOFFSETTO:-0600
TZNAME:CST
DTSTART:20271107T070000
END:STANDARD
END:VTIMEZONE
BEGIN:VEVENT
DTSTART;TZID=America/Chicago:20260416T170000
DTEND;TZID=America/Chicago:20260416T203000
DTSTAMP:20260425T145857
CREATED:20260317T152349Z
LAST-MODIFIED:20260413T170110Z
UID:24787-1776358800-1776371400@yourprovenance.com
SUMMARY:Concerts at Provenance Town Center: Seven Bridges – The Ultimate Eagles Experience
DESCRIPTION:Free live music concert series in Shreveport’s Provenance Community!\nThursdays\, April 16-May 21\, 5-8:30 pm\nThe Town Center Spring 2026 Concert Series features live music from popular regional bands at the new outdoor stage in Provenance (located behind Great American Cookie Co.)! Bring your blankets and chairs and enjoy a fun evening with your friends and neighbors! \nAll shows are 5-8:30 pm on the Town Center lawn: Come early to get your spot and enjoy local DJs spinning a mix of music from 5-6:30 pm. Headlining band will begin at 6:30 and play until 8:30 pm. Bring chairs & blankets. \nCome enjoy the Provenance lifestyle! Concerts are FREE and open to the public\, all ages are welcome. Cash bar available. \nApril 16: Seven Bridges: The Ultimate Eagles Experience\n“The Best EAGLES Tribute on Earth!” – Rolling Stone Magazine\nFasten your seat belts and get ready for an unforgettable rock and roll journey with 7 Bridges: The Ultimate EAGLES Experience!\nComing from Nashville\, Tennessee\, this tribute to the music of the Eagles includes stunningly accurate renditions of timeless classics and fan favorites such as “Hotel California\,” “Take It Easy\,” “Desperado\,” “One of These Nights\,” “Life In The Fast Lane” and “New Kid in Town”. 7 Bridges’ incredible concert experience transports the audience back to the country rock era in Southern California and features impeccable harmonies\, masterful musicianship\, and authentic 1970’s stage presence. The band’s dedication to recreating the iconic sound of The Eagles is evident in every note they play and sing. This makes their show a must-see event for any fan of classic rock. \nSponsored by Ochsner-LSU Health Shreveport\, Edward Jones/Mindy Rodriguez\, McCary’s Jewelers\, Graf Orthodontics\, Hargrove Roofing\, Lagniappe Lawnscapes & The Provenance Institute
URL:https://yourprovenance.com/event/concerts-at-provenance-town-center-seven-bridges-the-ultimate-eagles-experience/
LOCATION:Provenance Town Center\, 1024 Provenance Place Blvd.\, Shreveport\, 71106\, United States
CATEGORIES:Public Event
ATTACH;FMTTYPE=image/jpeg:https://yourprovenance.com/assets/uploads/2026/03/CONCERTS-EAGLES-4.jpg
END:VEVENT
END:VCALENDAR