BEGIN:VCALENDAR
VERSION:2.0
PRODID:-//Provenance - ECPv6.15.20//NONSGML v1.0//EN
CALSCALE:GREGORIAN
METHOD:PUBLISH
X-ORIGINAL-URL:https://yourprovenance.com
X-WR-CALDESC:Events for Provenance
REFRESH-INTERVAL;VALUE=DURATION:PT1H
X-Robots-Tag:noindex
X-PUBLISHED-TTL:PT1H
BEGIN:VTIMEZONE
TZID:America/Chicago
BEGIN:DAYLIGHT
TZOFFSETFROM:-0600
TZOFFSETTO:-0500
TZNAME:CDT
DTSTART:20250309T080000
END:DAYLIGHT
BEGIN:STANDARD
TZOFFSETFROM:-0500
TZOFFSETTO:-0600
TZNAME:CST
DTSTART:20251102T070000
END:STANDARD
BEGIN:DAYLIGHT
TZOFFSETFROM:-0600
TZOFFSETTO:-0500
TZNAME:CDT
DTSTART:20260308T080000
END:DAYLIGHT
BEGIN:STANDARD
TZOFFSETFROM:-0500
TZOFFSETTO:-0600
TZNAME:CST
DTSTART:20261101T070000
END:STANDARD
BEGIN:DAYLIGHT
TZOFFSETFROM:-0600
TZOFFSETTO:-0500
TZNAME:CDT
DTSTART:20270314T080000
END:DAYLIGHT
BEGIN:STANDARD
TZOFFSETFROM:-0500
TZOFFSETTO:-0600
TZNAME:CST
DTSTART:20271107T070000
END:STANDARD
END:VTIMEZONE
BEGIN:VEVENT
DTSTART;TZID=America/Chicago:20260321T080000
DTEND;TZID=America/Chicago:20260321T120000
DTSTAMP:20260425T162741
CREATED:20260112T190221Z
LAST-MODIFIED:20260112T190753Z
UID:24396-1774080000-1774094400@yourprovenance.com
SUMMARY:2026 Heels Up 5K Race
DESCRIPTION:The 2026 Heels Up 5K Race will be held in Provenance Community on Saturday\, March 21\, 2026!\nCome out and run or walk the 10th Annual Heels Up Race in Provenance! This event is for all ages with a Kids Fun Run and a 5K (3.1 miles) that you can run or walk.\n100% of proceeds from this race supports The Hub Urban Ministries program Purchased: Not for Sale. Purchased exists to serve women and children who are victims of sex trafficking or leaving the sex industry.\nThis race is run in honor of all the survivors of sex trafficking and to fight for those who are still victims.\nAll runners are invited to donate their shoes or bring a pair of shoes to donate on race day. If you donate your race shoes after you cross the finish line\, you will receive a Heels Up water bottle and a chance to win a year subscription to Rise Up and Roast coffee.\nCost: $30\, through Jan 31; $35\, Feb. 1-March 20; Race Day\, $40\nKIDS FUN RUN: $15 for ages 10 and under\nFun run begins at 8 am. All kids participating in the fun run will receive a Heels Up water bottle at packet pick-up.\nRace shirts: This year the shirts are short sleeve. The deadline to be guaranteed a shirt is March 1. \nSign Up to Run Here!
URL:https://yourprovenance.com/event/2026-heels-up-5k-race/
LOCATION:Provenance Clubhouse\, 1955 Woodberry Avenue\, Shreveport\, LA\, 71106\, United States
CATEGORIES:Public Event
ATTACH;FMTTYPE=image/jpeg:https://yourprovenance.com/assets/uploads/2026/01/heels-up-2026.jpg
ORGANIZER;CN="Hub Ministry":MAILTO:Serve@TheHubMinistry.com
END:VEVENT
END:VCALENDAR