BEGIN:VCALENDAR
VERSION:2.0
PRODID:-//Provenance - ECPv6.15.20//NONSGML v1.0//EN
CALSCALE:GREGORIAN
METHOD:PUBLISH
X-ORIGINAL-URL:https://yourprovenance.com
X-WR-CALDESC:Events for Provenance
REFRESH-INTERVAL;VALUE=DURATION:PT1H
X-Robots-Tag:noindex
X-PUBLISHED-TTL:PT1H
BEGIN:VTIMEZONE
TZID:America/Chicago
BEGIN:DAYLIGHT
TZOFFSETFROM:-0600
TZOFFSETTO:-0500
TZNAME:CDT
DTSTART:20250309T080000
END:DAYLIGHT
BEGIN:STANDARD
TZOFFSETFROM:-0500
TZOFFSETTO:-0600
TZNAME:CST
DTSTART:20251102T070000
END:STANDARD
BEGIN:DAYLIGHT
TZOFFSETFROM:-0600
TZOFFSETTO:-0500
TZNAME:CDT
DTSTART:20260308T080000
END:DAYLIGHT
BEGIN:STANDARD
TZOFFSETFROM:-0500
TZOFFSETTO:-0600
TZNAME:CST
DTSTART:20261101T070000
END:STANDARD
BEGIN:DAYLIGHT
TZOFFSETFROM:-0600
TZOFFSETTO:-0500
TZNAME:CDT
DTSTART:20270314T080000
END:DAYLIGHT
BEGIN:STANDARD
TZOFFSETFROM:-0500
TZOFFSETTO:-0600
TZNAME:CST
DTSTART:20271107T070000
END:STANDARD
END:VTIMEZONE
BEGIN:VEVENT
DTSTART;TZID=America/Chicago:20260101T140000
DTEND;TZID=America/Chicago:20260101T160000
DTSTAMP:20260425T185556
CREATED:20251223T205453Z
LAST-MODIFIED:20251229T143032Z
UID:24288-1767276000-1767283200@yourprovenance.com
SUMMARY:Special New Year's Day Open Houses
DESCRIPTION:New year\, new home!\nStop by these two first-time open homes on New Year’s Day and take the first step toward living your dream in Provenance! Tour a brand-new build by Wimberly Homes and a Bridgewater condo available for lease\, then stick around for our annual fireworks display over Windrush Lake!\nPlus\, we’ll have blackeyed peas at the homes to kick off good fortune in 2026!\n2101 Pecan Square Ave.:4 bedrooms\, 3.5 baths\, 2798 SF\, new build by Wimberly Homes\, For sale: $792\,500. Driving directions: Enter on Provenance Place Blvd.\, turn left on Woodberry Ave. and follow it down to Pecan Square Ave.\n1028 Bridgewater Ave.\, Unit E: 2 bedrooms\, 2.5 baths\, 1836 SF\, Condo for lease: $3\,371/mo. with 1 year lease\nNew Year’s Day Fireworks event
URL:https://yourprovenance.com/event/special-new-years-day-open-houses/
LOCATION:LA
CATEGORIES:Public Event
ATTACH;FMTTYPE=image/jpeg:https://yourprovenance.com/assets/uploads/2025/12/new-year-open-house-1.jpg
END:VEVENT
BEGIN:VEVENT
DTSTART;TZID=America/Chicago:20260101T160000
DTEND;TZID=America/Chicago:20260101T183000
DTSTAMP:20260425T185556
CREATED:20251009T145459Z
LAST-MODIFIED:20251223T205707Z
UID:23653-1767283200-1767292200@yourprovenance.com
SUMMARY:2026 New Years Day Fireworks
DESCRIPTION:The 2026 Fireworks Show on New Year’s Day around Windrush Lake\nCelebrate the first day of 2026 with our annual fireworks display over Windrush Lake\, a sight that is not to be missed! Enjoy favorite holiday treats and warm up to the idea of your New Year’s resolutions with food trucks and more! Open to the public. \nThe show will start after Sunset\, so everyone should be ready to view by 5:30 pm! We estimate the show will begin about 5:45. \nFood trucks: Mr. Grilled Cheese\, Joe’s 2 Geaux\, Cotton Candy Crush \nStop by before for a special New Year’s Day Open House featuring two first-time open homes! \nSee photos from 2025 Fireworks Show\n 
URL:https://yourprovenance.com/event/2026-new-years-day-fireworks/
LOCATION:Windrush Lake Overlook\, 1968 Bridgewater Avenue\, Shreveport\, LA\, 71106\, United States
CATEGORIES:Public Event
ATTACH;FMTTYPE=image/jpeg:https://yourprovenance.com/assets/uploads/2025/10/fireworks-2026.jpg
END:VEVENT
END:VCALENDAR