BEGIN:VCALENDAR
VERSION:2.0
PRODID:-//Provenance - ECPv6.15.20//NONSGML v1.0//EN
CALSCALE:GREGORIAN
METHOD:PUBLISH
X-WR-CALNAME:Provenance
X-ORIGINAL-URL:https://yourprovenance.com
X-WR-CALDESC:Events for Provenance
REFRESH-INTERVAL;VALUE=DURATION:PT1H
X-Robots-Tag:noindex
X-PUBLISHED-TTL:PT1H
BEGIN:VTIMEZONE
TZID:America/Chicago
BEGIN:DAYLIGHT
TZOFFSETFROM:-0600
TZOFFSETTO:-0500
TZNAME:CDT
DTSTART:20240310T080000
END:DAYLIGHT
BEGIN:STANDARD
TZOFFSETFROM:-0500
TZOFFSETTO:-0600
TZNAME:CST
DTSTART:20241103T070000
END:STANDARD
BEGIN:DAYLIGHT
TZOFFSETFROM:-0600
TZOFFSETTO:-0500
TZNAME:CDT
DTSTART:20250309T080000
END:DAYLIGHT
BEGIN:STANDARD
TZOFFSETFROM:-0500
TZOFFSETTO:-0600
TZNAME:CST
DTSTART:20251102T070000
END:STANDARD
BEGIN:DAYLIGHT
TZOFFSETFROM:-0600
TZOFFSETTO:-0500
TZNAME:CDT
DTSTART:20260308T080000
END:DAYLIGHT
BEGIN:STANDARD
TZOFFSETFROM:-0500
TZOFFSETTO:-0600
TZNAME:CST
DTSTART:20261101T070000
END:STANDARD
END:VTIMEZONE
BEGIN:VEVENT
DTSTART;TZID=America/Chicago:20251204T160000
DTEND;TZID=America/Chicago:20251204T190000
DTSTAMP:20260425T200527
CREATED:20250923T163222Z
LAST-MODIFIED:20251201T204715Z
UID:23520-1764864000-1764874800@yourprovenance.com
SUMMARY:Thursday Pop-Up Shop: Wooded Glen Pottery + Always Miss Bee Haven
DESCRIPTION:Join us for a Pop-Up Shop featuring one vendor each week at the Provenance Clubhouse\, Thursdays\, Nov. 13-Dec. 18 from 4 to 7 p.m. (except Nov. 27). Shop local and find unique gifts this holiday season! Open to the public. \nDec. 4 vendors: Wooded Glen Pottery: Wheel thrown pottery and ceramics +  Always Miss Bee Haven: Local honey \nFood truck: Joe’s 2 Geaux :Wood fired brick oven pizza \nProvenance Clubhouse is located at 1955 Woodberry Ave. (corner of Woodberry and Provenance Place Blvd.) \n 
URL:https://yourprovenance.com/event/thursday-pop-up-shop-14/
LOCATION:Provenance Clubhouse\, 1955 Woodberry Avenue\, Shreveport\, LA\, 71106\, United States
CATEGORIES:Public Event
ATTACH;FMTTYPE=image/jpeg:https://yourprovenance.com/assets/uploads/2025/09/Copy-of-Copy-of-pop-up-dec-4.jpg
END:VEVENT
END:VCALENDAR