BEGIN:VCALENDAR
VERSION:2.0
PRODID:-//Provenance - ECPv6.15.20//NONSGML v1.0//EN
CALSCALE:GREGORIAN
METHOD:PUBLISH
X-ORIGINAL-URL:https://yourprovenance.com
X-WR-CALDESC:Events for Provenance
REFRESH-INTERVAL;VALUE=DURATION:PT1H
X-Robots-Tag:noindex
X-PUBLISHED-TTL:PT1H
BEGIN:VTIMEZONE
TZID:America/Chicago
BEGIN:DAYLIGHT
TZOFFSETFROM:-0600
TZOFFSETTO:-0500
TZNAME:CDT
DTSTART:20240310T080000
END:DAYLIGHT
BEGIN:STANDARD
TZOFFSETFROM:-0500
TZOFFSETTO:-0600
TZNAME:CST
DTSTART:20241103T070000
END:STANDARD
BEGIN:DAYLIGHT
TZOFFSETFROM:-0600
TZOFFSETTO:-0500
TZNAME:CDT
DTSTART:20250309T080000
END:DAYLIGHT
BEGIN:STANDARD
TZOFFSETFROM:-0500
TZOFFSETTO:-0600
TZNAME:CST
DTSTART:20251102T070000
END:STANDARD
BEGIN:DAYLIGHT
TZOFFSETFROM:-0600
TZOFFSETTO:-0500
TZNAME:CDT
DTSTART:20260308T080000
END:DAYLIGHT
BEGIN:STANDARD
TZOFFSETFROM:-0500
TZOFFSETTO:-0600
TZNAME:CST
DTSTART:20261101T070000
END:STANDARD
END:VTIMEZONE
BEGIN:VEVENT
DTSTART;TZID=America/Chicago:20251011T080000
DTEND;TZID=America/Chicago:20251011T110000
DTSTAMP:20260425T222147
CREATED:20250729T144123Z
LAST-MODIFIED:20251007T151902Z
UID:23047-1760169600-1760180400@yourprovenance.com
SUMMARY:Markets at Provenance Town Center
DESCRIPTION:Join us in Provenance’s Town Center for Fall Markets!\nSecond Saturday of the month\, Sept. 13\, Oct. 11 and Nov. 8 from 8 a.m.-11 a.m.\nMarkets return to Town Center this Fall! Support small businesses and shop with local vendors at Provenance! Markets will be held on the second Saturday this fall at Town Center (located behind Rhino Coffee).\nLive music from Haley Brooke\nOct. 11 Vendor List:\nSimply Stitched\nDelatte Sisters\nRustic Charm Designs\nThe Fabled Florist\nTiger Den\nDough & Co\nGlow Alchemy Kitchen\nMelissa Leigh Designs\nAli’s Eats – Macarons and More\nApotheworx Pharmacy\nTaylor’s homestead\nNeaCream Skin Products\nC Fohl Photography\nQuirkyQuackpots\nMade With Purpose Company\nMoonlight Harvest\nBoo’s Bandana Shop\nGod’s Wood Greg’s Hands\nCandybudgets\nAnovite\nWendy Faye Jewelry\nPepptStyles\nLime and Grace\nMichelle’s Sweets ETC\nAstoli Designs\nThe Handmade Sisters Co.\nIT’S A PARTY!!\nMoore Creative by Cheryl\nBrine + Shine Pickeled Dillights\nSimply Squeeze Co.\nD’eva Creations\nBe Golden Jewelry\nBows By Tammy\nBayou Blu\nKelly Schmidt Originals
URL:https://yourprovenance.com/event/markets-at-town-center-5/
LOCATION:Provenance Town Center\, 1024 Provenance Place Blvd.\, Shreveport\, 71106\, United States
CATEGORIES:Public Event
ATTACH;FMTTYPE=image/jpeg:https://yourprovenance.com/assets/uploads/2025/07/Copy-of-MARKETS-AT-TOWN-CENTER.jpg
END:VEVENT
BEGIN:VEVENT
DTSTART;TZID=America/Chicago:20251011T090000
DTEND;TZID=America/Chicago:20251011T100000
DTSTAMP:20260425T222147
CREATED:20250729T132704Z
LAST-MODIFIED:20250729T132704Z
UID:23040-1760173200-1760176800@yourprovenance.com
SUMMARY:Saturday Morning Yoga in the Park
DESCRIPTION:Yoga in the Park with Bloom Yoga\n9 a.m. in Greenleaf Park\, Saturdays\, Sept. 6-Oct. 18 \nFun Flow\, appropriate for all levels led by Bloom Yoga. Bring a yoga mat or a towel (and water).  Cost: $20 a person\, or $30 per couple. Pay with cash day of\, or Venmo @bloomyoga318. \n(Weather permitting. In the event of inclement weather\, yoga will be canceled.)
URL:https://yourprovenance.com/event/saturday-morning-yoga-in-the-park-20/
LOCATION:Greenleaf Park\, 1955 Woodberry Avenue\, Shreveport\, LA\, 71106\, United States
CATEGORIES:Public Event
ATTACH;FMTTYPE=image/jpeg:https://yourprovenance.com/assets/uploads/2025/02/new-yoga.jpg
END:VEVENT
END:VCALENDAR