BEGIN:VCALENDAR
VERSION:2.0
PRODID:-//Provenance - ECPv6.15.20//NONSGML v1.0//EN
CALSCALE:GREGORIAN
METHOD:PUBLISH
X-WR-CALNAME:Provenance
X-ORIGINAL-URL:https://yourprovenance.com
X-WR-CALDESC:Events for Provenance
REFRESH-INTERVAL;VALUE=DURATION:PT1H
X-Robots-Tag:noindex
X-PUBLISHED-TTL:PT1H
BEGIN:VTIMEZONE
TZID:America/Chicago
BEGIN:DAYLIGHT
TZOFFSETFROM:-0600
TZOFFSETTO:-0500
TZNAME:CDT
DTSTART:20240310T080000
END:DAYLIGHT
BEGIN:STANDARD
TZOFFSETFROM:-0500
TZOFFSETTO:-0600
TZNAME:CST
DTSTART:20241103T070000
END:STANDARD
BEGIN:DAYLIGHT
TZOFFSETFROM:-0600
TZOFFSETTO:-0500
TZNAME:CDT
DTSTART:20250309T080000
END:DAYLIGHT
BEGIN:STANDARD
TZOFFSETFROM:-0500
TZOFFSETTO:-0600
TZNAME:CST
DTSTART:20251102T070000
END:STANDARD
BEGIN:DAYLIGHT
TZOFFSETFROM:-0600
TZOFFSETTO:-0500
TZNAME:CDT
DTSTART:20260308T080000
END:DAYLIGHT
BEGIN:STANDARD
TZOFFSETFROM:-0500
TZOFFSETTO:-0600
TZNAME:CST
DTSTART:20261101T070000
END:STANDARD
END:VTIMEZONE
BEGIN:VEVENT
DTSTART;TZID=America/Chicago:20250913T080000
DTEND;TZID=America/Chicago:20250913T110000
DTSTAMP:20260425T231546
CREATED:20250729T144350Z
LAST-MODIFIED:20250909T145707Z
UID:23044-1757750400-1757761200@yourprovenance.com
SUMMARY:Markets at Provenance Town Center
DESCRIPTION:Join us in Provenance’s Town Center for Fall Markets!\nSecond Saturday of the month\, Sept. 13\, Oct. 11 and Nov. 8 from 8 a.m.-11 a.m.\nMarkets return to Town Center this Fall! Support small businesses and shop with local vendors at Provenance! Markets will be held on the second Saturday this fall at Town Center (located behind Rhino Coffee). Open to the public.\nLive music from Mae Graf\nVendors:\nKelly Schmidt Originals\nCheat Day\nGrace Anne Makes\nMagnolia Root & Render\nAlways Miss Bee Haven LLC\nPIE & Herbs LLC\nPeach Tee Printing\n3D on the Red\nFerguson’s Eats and Treats\nThe Approachable Gourmet\nCrochet Queen\nAstoli Designs\nMade With Purpose Company\nGod’s Wood – Greg’s Hands\nNatalie Niu Art\nBayou Blu\nMoonlight Harvest\nRusted Oakes\nThe Bee’s Knees\nStacey’s Brittle Shoppe\nD’eva Creations\nChateau de Shatto\nDardie’s Pralines\nThe Tiger Den\nBows By Tammy\nAudria Creates Wreaths\nPolar Pantry\nIvy’s Flowers \n  \n 
URL:https://yourprovenance.com/event/markets-at-town-center-6/
LOCATION:Provenance Town Center\, 1024 Provenance Place Blvd.\, Shreveport\, 71106\, United States
CATEGORIES:Public Event
ATTACH;FMTTYPE=image/jpeg:https://yourprovenance.com/assets/uploads/2025/07/Copy-of-MARKETS-AT-TOWN-CENTER.jpg
END:VEVENT
BEGIN:VEVENT
DTSTART;TZID=America/Chicago:20250913T090000
DTEND;TZID=America/Chicago:20250913T100000
DTSTAMP:20260425T231546
CREATED:20250729T132756Z
LAST-MODIFIED:20250729T132756Z
UID:23031-1757754000-1757757600@yourprovenance.com
SUMMARY:Saturday Morning Yoga in the Park
DESCRIPTION:Yoga in the Park with Bloom Yoga\n9 a.m. in Greenleaf Park\, Saturdays\, Sept. 6-Oct. 18 \nFun Flow\, appropriate for all levels led by Bloom Yoga. Bring a yoga mat or a towel (and water).  Cost: $20 a person\, or $30 per couple. Pay with cash day of\, or Venmo @bloomyoga318. \n(Weather permitting. In the event of inclement weather\, yoga will be canceled.)
URL:https://yourprovenance.com/event/saturday-morning-yoga-in-the-park-24/
LOCATION:Greenleaf Park\, 1955 Woodberry Avenue\, Shreveport\, LA\, 71106\, United States
CATEGORIES:Public Event
ATTACH;FMTTYPE=image/jpeg:https://yourprovenance.com/assets/uploads/2025/02/new-yoga.jpg
END:VEVENT
END:VCALENDAR