BEGIN:VCALENDAR
VERSION:2.0
PRODID:-//Provenance - ECPv6.15.20//NONSGML v1.0//EN
CALSCALE:GREGORIAN
METHOD:PUBLISH
X-WR-CALNAME:Provenance
X-ORIGINAL-URL:https://yourprovenance.com
X-WR-CALDESC:Events for Provenance
REFRESH-INTERVAL;VALUE=DURATION:PT1H
X-Robots-Tag:noindex
X-PUBLISHED-TTL:PT1H
BEGIN:VTIMEZONE
TZID:America/Chicago
BEGIN:DAYLIGHT
TZOFFSETFROM:-0600
TZOFFSETTO:-0500
TZNAME:CDT
DTSTART:20240310T080000
END:DAYLIGHT
BEGIN:STANDARD
TZOFFSETFROM:-0500
TZOFFSETTO:-0600
TZNAME:CST
DTSTART:20241103T070000
END:STANDARD
BEGIN:DAYLIGHT
TZOFFSETFROM:-0600
TZOFFSETTO:-0500
TZNAME:CDT
DTSTART:20250309T080000
END:DAYLIGHT
BEGIN:STANDARD
TZOFFSETFROM:-0500
TZOFFSETTO:-0600
TZNAME:CST
DTSTART:20251102T070000
END:STANDARD
BEGIN:DAYLIGHT
TZOFFSETFROM:-0600
TZOFFSETTO:-0500
TZNAME:CDT
DTSTART:20260308T080000
END:DAYLIGHT
BEGIN:STANDARD
TZOFFSETFROM:-0500
TZOFFSETTO:-0600
TZNAME:CST
DTSTART:20261101T070000
END:STANDARD
END:VTIMEZONE
BEGIN:VEVENT
DTSTART;TZID=America/Chicago:20250911T170000
DTEND;TZID=America/Chicago:20250911T203000
DTSTAMP:20260425T233452
CREATED:20250729T170039Z
LAST-MODIFIED:20250910T152420Z
UID:23082-1757610000-1757622600@yourprovenance.com
SUMMARY:Concerts at Provenance Town Center: The Chee-Weez
DESCRIPTION:Free live music concert series in Shreveport’s Provenance Community!\nThursdays\, Sept. 11-Oct. 16\, 5-8:30 pm\nThe Town Center Fall 2025 Concert Series features live music from popular regional bands at the new outdoor stage in Provenance (located behind Rhino Coffee)! Bring your blankets and chairs and enjoy a fun evening with your friends and neighbors! \nAll shows are 5-8:30 pm: Come early to get your spot and enjoy local DJs spinning a mix of music from 5-6:30 pm. Headlining band hits the stage at 6:30 pm. \nCome enjoy the Provenance lifestyle! Concerts are FREE and open to the public\, all ages are welcome. Cash bar will be available. \nSept. 11: The Chee-Weez\nThe Chee-Weez from New Orleans will kick off our fall concert series at the Provenance Town Center stage on Sept. 11! Anything and everything goes at a Chee-Weez show! They aren’t about one genre. They aren’t about one style. They are about FUN! From spur of the moment medleys\, rocked out 80s dance tunes\, R&B\, Metallica or Neil Diamond\, you never know what you’ll hear next! \n \nThank you to our sponsors Graf Orthodontics\, Hargrove Roofing\, Lagniappe Lawnscapes\,\nVintage Homes/Sightline Construction & Development\, The Provenance Institute
URL:https://yourprovenance.com/event/concerts-at-provenance-town-center-18/
LOCATION:Town Center Stage\, 1024 Provenance Place Blvd.\, Shreveport\, LA\, 71106\, United States
CATEGORIES:Public Event
ATTACH;FMTTYPE=image/jpeg:https://yourprovenance.com/assets/uploads/2025/07/concerts-chee-wee-3.jpg
END:VEVENT
END:VCALENDAR