BEGIN:VCALENDAR
VERSION:2.0
PRODID:-//Provenance - ECPv6.15.20//NONSGML v1.0//EN
CALSCALE:GREGORIAN
METHOD:PUBLISH
X-WR-CALNAME:Provenance
X-ORIGINAL-URL:https://yourprovenance.com
X-WR-CALDESC:Events for Provenance
REFRESH-INTERVAL;VALUE=DURATION:PT1H
X-Robots-Tag:noindex
X-PUBLISHED-TTL:PT1H
BEGIN:VTIMEZONE
TZID:America/Chicago
BEGIN:DAYLIGHT
TZOFFSETFROM:-0600
TZOFFSETTO:-0500
TZNAME:CDT
DTSTART:20240310T080000
END:DAYLIGHT
BEGIN:STANDARD
TZOFFSETFROM:-0500
TZOFFSETTO:-0600
TZNAME:CST
DTSTART:20241103T070000
END:STANDARD
BEGIN:DAYLIGHT
TZOFFSETFROM:-0600
TZOFFSETTO:-0500
TZNAME:CDT
DTSTART:20250309T080000
END:DAYLIGHT
BEGIN:STANDARD
TZOFFSETFROM:-0500
TZOFFSETTO:-0600
TZNAME:CST
DTSTART:20251102T070000
END:STANDARD
BEGIN:DAYLIGHT
TZOFFSETFROM:-0600
TZOFFSETTO:-0500
TZNAME:CDT
DTSTART:20260308T080000
END:DAYLIGHT
BEGIN:STANDARD
TZOFFSETFROM:-0500
TZOFFSETTO:-0600
TZNAME:CST
DTSTART:20261101T070000
END:STANDARD
END:VTIMEZONE
BEGIN:VEVENT
DTSTART;TZID=America/Chicago:20251108T080000
DTEND;TZID=America/Chicago:20251108T110000
DTSTAMP:20260425T195922
CREATED:20250729T132545Z
LAST-MODIFIED:20251105T190254Z
UID:23049-1762588800-1762599600@yourprovenance.com
SUMMARY:Markets at Provenance Town Center
DESCRIPTION:Join us in Provenance’s Town Center for Fall Markets!\nThe Second Saturday of the month\, Sept. 13\, Oct. 11 and Nov. 8 from 8 a.m.-11 a.m.\nMarkets return to Town Center this Fall! Support small businesses and shop with local vendors at Provenance! Markets will be held on the second Saturday this fall at Town Center (located behind Rhino Coffee). Open to the public.\nLive music from The Punky Chickens & Voodoo Blues Band\nNov. 8 Vendor List:\nKelly Schmidt Originals\nNana’s and Papa’s\nLight & Shadow Glass\nG6 Designs\nHeart Gates Vineyard\, LLC\nvRbCandles\nCadence Therapeutics\nThe Adventures of Jake and Alli\nWhims and Wires\nMelissa Leigh Designs\nGlow Alchemy Kitchen\nMagnolia Root & Render\nRodriguez-Elmore\nApotheworx Pharmacy\nWooded Glen Pottery\nHomegrown-IN A JAR\nKraf T Kre8shuns\nTiers Dahling!\n3D on the Red\nMyers Books & Bookish Goods\nLime & Grace\nAUDRIA CREATES WREATHS\nNea’s Total Body Rejuvenation\nDough & Co.\nGracefully Gaudy\nSimply Squeeze Co.\nWendy Faye\nGOD’S WOOD-GREG’S HANDS\nHigh Gravity Glassworks\nGracie’s Garden\nThe Bee’s Knees Boutique\nPaints By Abby\nMade with Purpose\nHoney Bites Brazilian Sweets\nEmily Welch Art\nAlways Miss Bee Haven LLC\nPIE & Herbs LLC\nThe Handmade Sisters Co.\nSweetly Made By Hannah\nMoore Creative by Cheryl\nMi Meza\, LLC\nChateau de Shatto\nHumane Society of Northwest Louisiana\nPolar Pantry\nSmall Town Baking \n 
URL:https://yourprovenance.com/event/markets-at-town-center-4/
LOCATION:Provenance Town Center\, 1024 Provenance Place Blvd.\, Shreveport\, 71106\, United States
CATEGORIES:Public Event
ATTACH;FMTTYPE=image/jpeg:https://yourprovenance.com/assets/uploads/2025/07/Copy-of-MARKETS-AT-TOWN-CENTER.jpg
END:VEVENT
BEGIN:VEVENT
DTSTART;TZID=America/Chicago:20251113T160000
DTEND;TZID=America/Chicago:20251113T190000
DTSTAMP:20260425T195922
CREATED:20250923T162821Z
LAST-MODIFIED:20251113T153455Z
UID:23515-1763049600-1763060400@yourprovenance.com
SUMMARY:Thursday Pop-Up Shop: The Tiger Den
DESCRIPTION:Join us for a Pop-Up Shop featuring two local vendors each week at the Provenance Clubhouse\, Thursdays\, Nov. 13-Dec. 18 from 4 to 7 p.m. (except Nov. 27). Shop local and find unique gifts this holiday season! Open to the public. \nNov. 13 vendor: Tiger Den: Bringing you the best in Louisiana sports apparel\, one game day at a time. Taqueria El Eden will also be set up by the Clubhouse\, so come hungry! \nProvenance Clubhouse is located at 1955 Woodberry Ave. (corner of Woodberry and Provenance Place Blvd.) \n 
URL:https://yourprovenance.com/event/thursday-pop-up-shop-12/
LOCATION:Provenance Clubhouse\, 1955 Woodberry Avenue\, Shreveport\, LA\, 71106\, United States
CATEGORIES:Public Event
ATTACH;FMTTYPE=image/jpeg:https://yourprovenance.com/assets/uploads/2025/09/Copy-of-POP-UP-MARKET-2.jpg
END:VEVENT
BEGIN:VEVENT
DTSTART;TZID=America/Chicago:20251120T160000
DTEND;TZID=America/Chicago:20251120T190000
DTSTAMP:20260425T195922
CREATED:20250923T163124Z
LAST-MODIFIED:20251117T163212Z
UID:23518-1763654400-1763665200@yourprovenance.com
SUMMARY:Thursday Pop-Up Shop: Kelly Schmidt Originals + High Gravity Glassworks
DESCRIPTION:Join us for a Pop-Up Shop featuring one vendor each week at the Provenance Clubhouse\, Thursdays\, Nov. 13-Dec. 18 from 4 to 7 p.m. (except Nov. 27). Shop local and find unique gifts this holiday season! Open to the public. \nNov. 20 vendors:  Kelly Schmidt Originals: Handcrafted jewelry and art + High Gravity Glassworks: Glass blown treasures \nProvenance Clubhouse is located at 1955 Woodberry Ave. (corner of Woodberry and Provenance Place Blvd.) \n 
URL:https://yourprovenance.com/event/thursday-pop-up-shop-13/
LOCATION:Provenance Clubhouse\, 1955 Woodberry Avenue\, Shreveport\, LA\, 71106\, United States
CATEGORIES:Public Event
ATTACH;FMTTYPE=image/jpeg:https://yourprovenance.com/assets/uploads/2025/09/Copy-of-pop-up-nov-20.jpg
END:VEVENT
END:VCALENDAR