BEGIN:VCALENDAR
VERSION:2.0
PRODID:-//Provenance - ECPv6.15.20//NONSGML v1.0//EN
CALSCALE:GREGORIAN
METHOD:PUBLISH
X-WR-CALNAME:Provenance
X-ORIGINAL-URL:https://yourprovenance.com
X-WR-CALDESC:Events for Provenance
REFRESH-INTERVAL;VALUE=DURATION:PT1H
X-Robots-Tag:noindex
X-PUBLISHED-TTL:PT1H
BEGIN:VTIMEZONE
TZID:America/Chicago
BEGIN:DAYLIGHT
TZOFFSETFROM:-0600
TZOFFSETTO:-0500
TZNAME:CDT
DTSTART:20240310T080000
END:DAYLIGHT
BEGIN:STANDARD
TZOFFSETFROM:-0500
TZOFFSETTO:-0600
TZNAME:CST
DTSTART:20241103T070000
END:STANDARD
BEGIN:DAYLIGHT
TZOFFSETFROM:-0600
TZOFFSETTO:-0500
TZNAME:CDT
DTSTART:20250309T080000
END:DAYLIGHT
BEGIN:STANDARD
TZOFFSETFROM:-0500
TZOFFSETTO:-0600
TZNAME:CST
DTSTART:20251102T070000
END:STANDARD
BEGIN:DAYLIGHT
TZOFFSETFROM:-0600
TZOFFSETTO:-0500
TZNAME:CDT
DTSTART:20260308T080000
END:DAYLIGHT
BEGIN:STANDARD
TZOFFSETFROM:-0500
TZOFFSETTO:-0600
TZNAME:CST
DTSTART:20261101T070000
END:STANDARD
END:VTIMEZONE
BEGIN:VEVENT
DTSTART;TZID=America/Chicago:20251002T170000
DTEND;TZID=America/Chicago:20251002T203000
DTSTAMP:20260425T210749
CREATED:20250729T165700Z
LAST-MODIFIED:20250916T160829Z
UID:23089-1759424400-1759437000@yourprovenance.com
SUMMARY:Concerts at Provenance Town Center: Identity Crisis
DESCRIPTION:Free live music concert series in Shreveport’s Provenance Community!\nThursdays\, Sept. 11-Oct. 16\, 5-8:30 pm\nThe Town Center Fall 2025 Concert Series features live music from popular regional bands at the new outdoor stage in Provenance (located behind Rhino Coffee)! Bring your blankets and chairs and enjoy a fun evening with your friends and neighbors! \nAll shows are 5-8:30 pm: Come early to get your spot and enjoy local DJs spinning a mix of music from 5-6:30 pm. Headlining band will begin at 6:30 and play until 8:30 pm. \nCome enjoy the Provenance lifestyle! The event is FREE and open to the public\, all ages are welcome. Cash bar will be available. \nOct. 2: Identity Crisis\nIdentity Crisis will rock the Provenance Town Center stage with hits from today\, the 80s & 90s! \n \nThank you to our sponsors Graf Orthodontics\, Hargrove Roofing\, Lagniappe Lawnscapes\,\nVintage Homes/Sightline Construction & Development\, The Provenance Institute\n 
URL:https://yourprovenance.com/event/concerts-at-provenance-town-center-15/
LOCATION:Town Center Stage\, 1024 Provenance Place Blvd.\, Shreveport\, LA\, 71106\, United States
CATEGORIES:Public Event
ATTACH;FMTTYPE=image/jpeg:https://yourprovenance.com/assets/uploads/2025/07/concerts-identity-crisis-2.jpg
END:VEVENT
BEGIN:VEVENT
DTSTART;TZID=America/Chicago:20251004T090000
DTEND;TZID=America/Chicago:20251004T100000
DTSTAMP:20260425T210749
CREATED:20250729T132716Z
LAST-MODIFIED:20250729T132716Z
UID:23038-1759568400-1759572000@yourprovenance.com
SUMMARY:Saturday Morning Yoga in the Park
DESCRIPTION:Yoga in the Park with Bloom Yoga\n9 a.m. in Greenleaf Park\, Saturdays\, Sept. 6-Oct. 18 \nFun Flow\, appropriate for all levels led by Bloom Yoga. Bring a yoga mat or a towel (and water).  Cost: $20 a person\, or $30 per couple. Pay with cash day of\, or Venmo @bloomyoga318. \n(Weather permitting. In the event of inclement weather\, yoga will be canceled.)
URL:https://yourprovenance.com/event/saturday-morning-yoga-in-the-park-21/
LOCATION:Greenleaf Park\, 1955 Woodberry Avenue\, Shreveport\, LA\, 71106\, United States
CATEGORIES:Public Event
ATTACH;FMTTYPE=image/jpeg:https://yourprovenance.com/assets/uploads/2025/02/new-yoga.jpg
END:VEVENT
BEGIN:VEVENT
DTSTART;TZID=America/Chicago:20251009T170000
DTEND;TZID=America/Chicago:20251009T203000
DTSTAMP:20260425T210749
CREATED:20250729T165547Z
LAST-MODIFIED:20250916T160619Z
UID:23092-1760029200-1760041800@yourprovenance.com
SUMMARY:Concerts at Provenance Town Center: The Barksdale Bubble
DESCRIPTION:Free live music concert series in Shreveport’s Provenance Community!\nThursdays\, Sept. 11-Oct. 16\, 5-8:30 pm\nThe Town Center Fall 2025 Concert Series features live music from popular regional bands at the new outdoor stage in Provenance (located behind Rhino Coffee)! Bring your blankets and chairs and enjoy a fun evening with your friends and neighbors! \nAll shows are 5-8:30 pm: Come early to get your spot and enjoy local DJs spinning a mix of music from 5-6:30 pm. Headlining band will begin at 6:30 and play until 8:30 pm. \nCome enjoy the Provenance lifestyle! Concerts are FREE and open to the public\, all ages are welcome. Cash bar will be available. \nOct. 9: The Barksdale Bubble\nIt’s always a good time with this favorite local cover band that puts their own twist on classic songs & brings the party every time! \n \nThank you to our sponsors Graf Orthodontics\, Hargrove Roofing\, Lagniappe Lawnscapes\,\nVintage Homes/Sightline Construction & Development\, The Provenance Institute\n  \n 
URL:https://yourprovenance.com/event/concerts-at-provenance-town-center-14/
LOCATION:Town Center Stage\, 1024 Provenance Place Blvd.\, Shreveport\, LA\, 71106\, United States
CATEGORIES:Public Event
ATTACH;FMTTYPE=image/jpeg:https://yourprovenance.com/assets/uploads/2025/07/concerts-barksdale-2.jpg
END:VEVENT
BEGIN:VEVENT
DTSTART;TZID=America/Chicago:20251011T080000
DTEND;TZID=America/Chicago:20251011T110000
DTSTAMP:20260425T210749
CREATED:20250729T144123Z
LAST-MODIFIED:20251007T151902Z
UID:23047-1760169600-1760180400@yourprovenance.com
SUMMARY:Markets at Provenance Town Center
DESCRIPTION:Join us in Provenance’s Town Center for Fall Markets!\nSecond Saturday of the month\, Sept. 13\, Oct. 11 and Nov. 8 from 8 a.m.-11 a.m.\nMarkets return to Town Center this Fall! Support small businesses and shop with local vendors at Provenance! Markets will be held on the second Saturday this fall at Town Center (located behind Rhino Coffee).\nLive music from Haley Brooke\nOct. 11 Vendor List:\nSimply Stitched\nDelatte Sisters\nRustic Charm Designs\nThe Fabled Florist\nTiger Den\nDough & Co\nGlow Alchemy Kitchen\nMelissa Leigh Designs\nAli’s Eats – Macarons and More\nApotheworx Pharmacy\nTaylor’s homestead\nNeaCream Skin Products\nC Fohl Photography\nQuirkyQuackpots\nMade With Purpose Company\nMoonlight Harvest\nBoo’s Bandana Shop\nGod’s Wood Greg’s Hands\nCandybudgets\nAnovite\nWendy Faye Jewelry\nPepptStyles\nLime and Grace\nMichelle’s Sweets ETC\nAstoli Designs\nThe Handmade Sisters Co.\nIT’S A PARTY!!\nMoore Creative by Cheryl\nBrine + Shine Pickeled Dillights\nSimply Squeeze Co.\nD’eva Creations\nBe Golden Jewelry\nBows By Tammy\nBayou Blu\nKelly Schmidt Originals
URL:https://yourprovenance.com/event/markets-at-town-center-5/
LOCATION:Provenance Town Center\, 1024 Provenance Place Blvd.\, Shreveport\, 71106\, United States
CATEGORIES:Public Event
ATTACH;FMTTYPE=image/jpeg:https://yourprovenance.com/assets/uploads/2025/07/Copy-of-MARKETS-AT-TOWN-CENTER.jpg
END:VEVENT
BEGIN:VEVENT
DTSTART;TZID=America/Chicago:20251011T090000
DTEND;TZID=America/Chicago:20251011T100000
DTSTAMP:20260425T210749
CREATED:20250729T132704Z
LAST-MODIFIED:20250729T132704Z
UID:23040-1760173200-1760176800@yourprovenance.com
SUMMARY:Saturday Morning Yoga in the Park
DESCRIPTION:Yoga in the Park with Bloom Yoga\n9 a.m. in Greenleaf Park\, Saturdays\, Sept. 6-Oct. 18 \nFun Flow\, appropriate for all levels led by Bloom Yoga. Bring a yoga mat or a towel (and water).  Cost: $20 a person\, or $30 per couple. Pay with cash day of\, or Venmo @bloomyoga318. \n(Weather permitting. In the event of inclement weather\, yoga will be canceled.)
URL:https://yourprovenance.com/event/saturday-morning-yoga-in-the-park-20/
LOCATION:Greenleaf Park\, 1955 Woodberry Avenue\, Shreveport\, LA\, 71106\, United States
CATEGORIES:Public Event
ATTACH;FMTTYPE=image/jpeg:https://yourprovenance.com/assets/uploads/2025/02/new-yoga.jpg
END:VEVENT
BEGIN:VEVENT
DTSTART;TZID=America/Chicago:20251016T170000
DTEND;TZID=America/Chicago:20251016T203000
DTSTAMP:20260425T210749
CREATED:20250729T132615Z
LAST-MODIFIED:20250916T160009Z
UID:23094-1760634000-1760646600@yourprovenance.com
SUMMARY:Concerts at Provenance Town Center: Disco Queen
DESCRIPTION:Free live music concert series in Shreveport’s Provenance Community!\nThursdays\, Sept. 11-Oct. 16\, 5-8:30 pm\nThe Town Center Fall 2025 Concert Series features live music from popular regional bands at the new outdoor stage in Provenance (located behind Rhino Coffee)! Bring your blankets and chairs and enjoy a fun evening with your friends and neighbors! \nAll shows are 5-8:30 pm: Come early to get your spot and enjoy local DJs spinning a mix of music from 5-6:30 pm. Headlining band will begin at 6:30 and play until 8:30 pm. \nCome enjoy the Provenance lifestyle! Concerts are FREE and open to the public\, all ages are welcome. Cash bar will be available. \nOct. 16: Disco Queen\nDo the Hustle\, the YMCA\, the Bump and more! Don’t forget your polyester\, platform shoes & bling! \n \nThank you to our sponsors Graf Orthodontics\, Hargrove Roofing\, Lagniappe Lawnscapes\,\nVintage Homes/Sightline Construction & Development\, The Provenance Institute\n  \n 
URL:https://yourprovenance.com/event/concerts-at-provenance-town-center-13/
LOCATION:Town Center Stage\, 1024 Provenance Place Blvd.\, Shreveport\, LA\, 71106\, United States
CATEGORIES:Public Event
ATTACH;FMTTYPE=image/jpeg:https://yourprovenance.com/assets/uploads/2025/07/concerts-disco-1.jpg
END:VEVENT
BEGIN:VEVENT
DTSTART;TZID=America/Chicago:20251018T090000
DTEND;TZID=America/Chicago:20251018T100000
DTSTAMP:20260425T210749
CREATED:20250729T132600Z
LAST-MODIFIED:20250729T132600Z
UID:23042-1760778000-1760781600@yourprovenance.com
SUMMARY:Saturday Morning Yoga in the Park
DESCRIPTION:Yoga in the Park with Bloom Yoga\n9 a.m. in Greenleaf Park\, Saturdays\, Sept. 6-Oct. 18 \nFun Flow\, appropriate for all levels led by Bloom Yoga. Bring a yoga mat or a towel (and water).  Cost: $20 a person\, or $30 per couple. Pay with cash day of\, or Venmo @bloomyoga318. \n(Weather permitting. In the event of inclement weather\, yoga will be canceled.)
URL:https://yourprovenance.com/event/saturday-morning-yoga-in-the-park-19/
LOCATION:Greenleaf Park\, 1955 Woodberry Avenue\, Shreveport\, LA\, 71106\, United States
CATEGORIES:Public Event
ATTACH;FMTTYPE=image/jpeg:https://yourprovenance.com/assets/uploads/2025/02/new-yoga.jpg
END:VEVENT
BEGIN:VEVENT
DTSTART;TZID=America/Chicago:20251019T180000
DTEND;TZID=America/Chicago:20251019T200000
DTSTAMP:20260425T210749
CREATED:20250815T210840Z
LAST-MODIFIED:20251017T215357Z
UID:23236-1760896800-1760904000@yourprovenance.com
SUMMARY:Movie Under the Stars: Wicked Sing-Along
DESCRIPTION:Enjoy a family-friendly movie under the stars at Provenance on Sunday\, Oct. 19\, 2025! Free and open to the public. (PLEASE NOTE: EVENT IS RESCHEDULED TO SUNDAY\, OCT. 19 DUE TO THE THREAT OF SEVERE WEATHER ON SATURDAY) \nMovie plays in Provenance Town Center (grassy area behind Rhino Coffee) and will begin after sunset (around 6:30 pm). Bring a blanket or chair. \nFeature film: Wicked (Sing-Along!) \nSing alongside Cynthia Erivo and Ariana Grande with a special sing-along screening of the epic fantasy musical Wicked! Costumes encouraged! \nSponsored by Foster Orthodontics & Deupree James Wealth Management \n  \n 
URL:https://yourprovenance.com/event/movies-under-the-stars-wicked-sing-along/
LOCATION:Provenance Town Center\, 1024 Provenance Place Blvd.\, Shreveport\, 71106\, United States
CATEGORIES:Public Event
ATTACH;FMTTYPE=image/jpeg:https://yourprovenance.com/assets/uploads/2025/08/wicked-reschedule-3.jpg
END:VEVENT
END:VCALENDAR